BEGIN:VCALENDAR
VERSION:2.0
PRODID:-//South Bristol, NY - ECPv6.15.20//NONSGML v1.0//EN
CALSCALE:GREGORIAN
METHOD:PUBLISH
X-ORIGINAL-URL:https://southbristolny.org
X-WR-CALDESC:Events for South Bristol, NY
REFRESH-INTERVAL;VALUE=DURATION:PT1H
X-Robots-Tag:noindex
X-PUBLISHED-TTL:PT1H
BEGIN:VTIMEZONE
TZID:America/New_York
BEGIN:DAYLIGHT
TZOFFSETFROM:-0500
TZOFFSETTO:-0400
TZNAME:EDT
DTSTART:20150308T070000
END:DAYLIGHT
BEGIN:STANDARD
TZOFFSETFROM:-0400
TZOFFSETTO:-0500
TZNAME:EST
DTSTART:20151101T060000
END:STANDARD
BEGIN:DAYLIGHT
TZOFFSETFROM:-0500
TZOFFSETTO:-0400
TZNAME:EDT
DTSTART:20160313T070000
END:DAYLIGHT
BEGIN:STANDARD
TZOFFSETFROM:-0400
TZOFFSETTO:-0500
TZNAME:EST
DTSTART:20161106T060000
END:STANDARD
BEGIN:DAYLIGHT
TZOFFSETFROM:-0500
TZOFFSETTO:-0400
TZNAME:EDT
DTSTART:20170312T070000
END:DAYLIGHT
BEGIN:STANDARD
TZOFFSETFROM:-0400
TZOFFSETTO:-0500
TZNAME:EST
DTSTART:20171105T060000
END:STANDARD
BEGIN:DAYLIGHT
TZOFFSETFROM:-0500
TZOFFSETTO:-0400
TZNAME:EDT
DTSTART:20180311T070000
END:DAYLIGHT
BEGIN:STANDARD
TZOFFSETFROM:-0400
TZOFFSETTO:-0500
TZNAME:EST
DTSTART:20181104T060000
END:STANDARD
BEGIN:DAYLIGHT
TZOFFSETFROM:-0500
TZOFFSETTO:-0400
TZNAME:EDT
DTSTART:20190310T070000
END:DAYLIGHT
BEGIN:STANDARD
TZOFFSETFROM:-0400
TZOFFSETTO:-0500
TZNAME:EST
DTSTART:20191103T060000
END:STANDARD
BEGIN:DAYLIGHT
TZOFFSETFROM:-0500
TZOFFSETTO:-0400
TZNAME:EDT
DTSTART:20200308T070000
END:DAYLIGHT
BEGIN:STANDARD
TZOFFSETFROM:-0400
TZOFFSETTO:-0500
TZNAME:EST
DTSTART:20201101T060000
END:STANDARD
BEGIN:DAYLIGHT
TZOFFSETFROM:-0500
TZOFFSETTO:-0400
TZNAME:EDT
DTSTART:20210314T070000
END:DAYLIGHT
BEGIN:STANDARD
TZOFFSETFROM:-0400
TZOFFSETTO:-0500
TZNAME:EST
DTSTART:20211107T060000
END:STANDARD
BEGIN:DAYLIGHT
TZOFFSETFROM:-0500
TZOFFSETTO:-0400
TZNAME:EDT
DTSTART:20220313T070000
END:DAYLIGHT
BEGIN:STANDARD
TZOFFSETFROM:-0400
TZOFFSETTO:-0500
TZNAME:EST
DTSTART:20221106T060000
END:STANDARD
BEGIN:DAYLIGHT
TZOFFSETFROM:-0500
TZOFFSETTO:-0400
TZNAME:EDT
DTSTART:20230312T070000
END:DAYLIGHT
BEGIN:STANDARD
TZOFFSETFROM:-0400
TZOFFSETTO:-0500
TZNAME:EST
DTSTART:20231105T060000
END:STANDARD
BEGIN:DAYLIGHT
TZOFFSETFROM:-0500
TZOFFSETTO:-0400
TZNAME:EDT
DTSTART:20240310T070000
END:DAYLIGHT
BEGIN:STANDARD
TZOFFSETFROM:-0400
TZOFFSETTO:-0500
TZNAME:EST
DTSTART:20241103T060000
END:STANDARD
BEGIN:DAYLIGHT
TZOFFSETFROM:-0500
TZOFFSETTO:-0400
TZNAME:EDT
DTSTART:20250309T070000
END:DAYLIGHT
BEGIN:STANDARD
TZOFFSETFROM:-0400
TZOFFSETTO:-0500
TZNAME:EST
DTSTART:20251102T060000
END:STANDARD
BEGIN:DAYLIGHT
TZOFFSETFROM:-0500
TZOFFSETTO:-0400
TZNAME:EDT
DTSTART:20260308T070000
END:DAYLIGHT
BEGIN:STANDARD
TZOFFSETFROM:-0400
TZOFFSETTO:-0500
TZNAME:EST
DTSTART:20261101T060000
END:STANDARD
END:VTIMEZONE
BEGIN:VEVENT
DTSTART;TZID=America/New_York:20251216T150000
DTEND;TZID=America/New_York:20251216T170000
DTSTAMP:20260423T162939
CREATED:20251119T145500Z
LAST-MODIFIED:20251119T145500Z
UID:10000935-1765897200-1765904400@southbristolny.org
SUMMARY:Dan Marshall Celebration of Service
DESCRIPTION:Honoring 24+ years of dedicated service to the Town of South Bristol.  \n3:00 PM – Celebration of Service\nSouth Bristol Town Hall\nRemarks\, memories\, and recognition of Dan’s years of leadership.  \n4:00 PM – Social Gathering\nBrew & Brats\nContinue the celebration with drinks and good company.  \nJoin us as we thank Supervisor Dan Marshall for his remarkable service and wish him well.
URL:https://southbristolny.org/event/dan-marshall-celebration-of-service/
LOCATION:South Bristol Town Hall\, 6500 Gannett Hill Road\, Naples\, 14512
END:VEVENT
BEGIN:VEVENT
DTSTART;TZID=America/New_York:20180312T190000
DTEND;TZID=America/New_York:20180312T190000
DTSTAMP:20260423T162939
CREATED:20180306T153027Z
LAST-MODIFIED:20180306T153027Z
UID:10000417-1520881200-1520881200@southbristolny.org
SUMMARY:Public Hearing
DESCRIPTION:LEGAL NOTICE\nTOWN OF SOUTH BRISTOL\nNOTICE OF PUBLIC HEARING\n     PLEASE TAKE NOTICE that a public hearing will be held by the Town Board of the Town of South Bristol on the 12th day of March\, 2018\, at 7:00 p.m.\, at the South Bristol Town Hall\, 6500 Gannett Hill Road – West\, South Bristol\, New York\, regarding the adoption of a Local Law which would permit the Town Board to adopt a budget for the 2019 fiscal year that requires a real property tax levy in excess of the amount otherwise prescribed in General Municipal Law §3-c.\n     Any resident of the Town of South Bristol shall be entitled to be heard upon said proposed Local Law at such public hearing.  Copies of said proposed Local Law are available for review at the South Bristol Town Hall\, 6500 Gannett Hill Road – West\, Town of South Bristol\, New York.\n     This by Resolution of the Town Board of the Town of South Bristol.\n     Judy Voss\, Town Clerk
URL:https://southbristolny.org/event/public-hearing/
LOCATION:South Bristol Town Hall\, 6500 Gannett Hill Road\, Naples\, 14512
END:VEVENT
BEGIN:VEVENT
DTSTART;TZID=America/New_York:20170828T190000
DTEND;TZID=America/New_York:20170828T200000
DTSTAMP:20260423T162939
CREATED:20170815T173214Z
LAST-MODIFIED:20170815T173214Z
UID:10000084-1503946800-1503950400@southbristolny.org
SUMMARY:Democratic Caucus
DESCRIPTION:Legal Notice: \nNotice is hereby given\, pursuant to the provisions of Section 6-108 of the New York State Election Law\, that a Deomocratic Party Caucus will be held on Monday\, August 28\, 2017 at the South Bristol Town Hall\, 6500 Gannett Hill Road\, Naples\, NY.  The purpose of the Caucus is to select candidates for the following public office: \nSouth Bristol Town Board Member \nOr any and all certified vacant positions of Elected PUblic Offices for said town that may arise: \nAll duly enrolled members of the Democratic Party in the Town of South Bristol are eligible to participate and vote. \nChairperson: Jim Strickland \nDated August 8\, 2017
URL:https://southbristolny.org/event/democratic-caucus/
LOCATION:South Bristol Town Hall\, 6500 Gannett Hill Road\, Naples\, 14512
END:VEVENT
BEGIN:VEVENT
DTSTART;TZID=America/New_York:20170109T190000
DTEND;TZID=America/New_York:20170109T200000
DTSTAMP:20260423T162939
CREATED:20161214T154409Z
LAST-MODIFIED:20161214T154409Z
UID:10000022-1483988400-1483992000@southbristolny.org
SUMMARY:South Bristol Town Board Organizational meeting &  Regular meeting
DESCRIPTION:
URL:https://southbristolny.org/event/south-bristol-town-board-organizational-meeting-regular-meeting/
LOCATION:South Bristol Town Hall\, 6500 Gannett Hill Road\, Naples\, 14512
END:VEVENT
BEGIN:VEVENT
DTSTART;TZID=America/New_York:20161108T060000
DTEND;TZID=America/New_York:20161108T210000
DTSTAMP:20260423T162939
CREATED:20161013T152513Z
LAST-MODIFIED:20161013T152513Z
UID:10000175-1478584800-1478638800@southbristolny.org
SUMMARY:General Election
DESCRIPTION:November 8\, 2016 – Polls open 6:00AM and close 9:00PM.
URL:https://southbristolny.org/event/general-election/
LOCATION:South Bristol Town Hall\, 6500 Gannett Hill Road\, Naples\, 14512
END:VEVENT
BEGIN:VEVENT
DTSTART;TZID=America/New_York:20161029T090000
DTEND;TZID=America/New_York:20161029T100000
DTSTAMP:20260423T162939
CREATED:20161026T224815Z
LAST-MODIFIED:20161026T224815Z
UID:10000176-1477731600-1477735200@southbristolny.org
SUMMARY:South Bristol Town Board Special Meeting
DESCRIPTION:The South Bristol Town Board will be holding a Special Meeting on Saturday\, October 29\, 2016 at 9:00am to discuss the 2017 Tentative/Preliminary Budget.  All meetings are open to the public. By order of the South Bristol Supervisor.
URL:https://southbristolny.org/event/south-bristol-town-board-special-meeting/
LOCATION:South Bristol Town Hall\, 6500 Gannett Hill Road\, Naples\, 14512
END:VEVENT
END:VCALENDAR