BEGIN:VCALENDAR
VERSION:2.0
PRODID:-//South Bristol, NY - ECPv6.15.20//NONSGML v1.0//EN
CALSCALE:GREGORIAN
METHOD:PUBLISH
X-ORIGINAL-URL:https://southbristolny.org
X-WR-CALDESC:Events for South Bristol, NY
REFRESH-INTERVAL;VALUE=DURATION:PT1H
X-Robots-Tag:noindex
X-PUBLISHED-TTL:PT1H
BEGIN:VTIMEZONE
TZID:America/New_York
BEGIN:DAYLIGHT
TZOFFSETFROM:-0500
TZOFFSETTO:-0400
TZNAME:EDT
DTSTART:20250309T070000
END:DAYLIGHT
BEGIN:STANDARD
TZOFFSETFROM:-0400
TZOFFSETTO:-0500
TZNAME:EST
DTSTART:20251102T060000
END:STANDARD
BEGIN:DAYLIGHT
TZOFFSETFROM:-0500
TZOFFSETTO:-0400
TZNAME:EDT
DTSTART:20260308T070000
END:DAYLIGHT
BEGIN:STANDARD
TZOFFSETFROM:-0400
TZOFFSETTO:-0500
TZNAME:EST
DTSTART:20261101T060000
END:STANDARD
BEGIN:DAYLIGHT
TZOFFSETFROM:-0500
TZOFFSETTO:-0400
TZNAME:EDT
DTSTART:20270314T070000
END:DAYLIGHT
BEGIN:STANDARD
TZOFFSETFROM:-0400
TZOFFSETTO:-0500
TZNAME:EST
DTSTART:20271107T060000
END:STANDARD
END:VTIMEZONE
BEGIN:VEVENT
DTSTART;TZID=America/New_York:20260613T100000
DTEND;TZID=America/New_York:20260613T160000
DTSTAMP:20260421T150308
CREATED:20260416T140556Z
LAST-MODIFIED:20260416T140556Z
UID:10001233-1781344800-1781366400@southbristolny.org
SUMMARY:Freedom Festival 2026: America’s 250th Comes to the Bristol Hills
DESCRIPTION:Bristol Hills Historical Society\, Canandaigua History Alliance\, and the towns of Canandaigua\, Bristol\, and South Bristol invite the public to this two-day “Freedom Festival\,” June 13-14\, 2026\, featuring Revolutionary War and pioneer reenactors\, period crafts people\, vintage games for children and adults\, performances\, lectures\, and other activities commemorating life in the Finger Lakes during our nation’s earliest days. A full schedule will be available at bristolhillshistory.org/freedomfestival2026. Revolutionary-era activities will all take place on Saturday\, with some carrying over to Sunday\, while Sunday’s event features the annual Bristol Fun Day lineup of food\, local vendors and organizations\, a parade and car show\, and live music. All activities both days take place at Bristol’s Levi Corser Park in Bristol Center.
URL:https://southbristolny.org/event/freedom-festival-2026-americas-250th-comes-to-the-bristol-hills/
LOCATION:Levi Corser Park\, 6751 County Road 32\, Canandaigua\, NY\, 14424
END:VEVENT
END:VCALENDAR