BEGIN:VCALENDAR
VERSION:2.0
PRODID:-//South Bristol, NY - ECPv6.15.20//NONSGML v1.0//EN
CALSCALE:GREGORIAN
METHOD:PUBLISH
X-WR-CALNAME:South Bristol, NY
X-ORIGINAL-URL:https://southbristolny.org
X-WR-CALDESC:Events for South Bristol, NY
REFRESH-INTERVAL;VALUE=DURATION:PT1H
X-Robots-Tag:noindex
X-PUBLISHED-TTL:PT1H
BEGIN:VTIMEZONE
TZID:America/New_York
BEGIN:DAYLIGHT
TZOFFSETFROM:-0500
TZOFFSETTO:-0400
TZNAME:EDT
DTSTART:20160313T070000
END:DAYLIGHT
BEGIN:STANDARD
TZOFFSETFROM:-0400
TZOFFSETTO:-0500
TZNAME:EST
DTSTART:20161106T060000
END:STANDARD
BEGIN:DAYLIGHT
TZOFFSETFROM:-0500
TZOFFSETTO:-0400
TZNAME:EDT
DTSTART:20170312T070000
END:DAYLIGHT
BEGIN:STANDARD
TZOFFSETFROM:-0400
TZOFFSETTO:-0500
TZNAME:EST
DTSTART:20171105T060000
END:STANDARD
BEGIN:DAYLIGHT
TZOFFSETFROM:-0500
TZOFFSETTO:-0400
TZNAME:EDT
DTSTART:20180311T070000
END:DAYLIGHT
BEGIN:STANDARD
TZOFFSETFROM:-0400
TZOFFSETTO:-0500
TZNAME:EST
DTSTART:20181104T060000
END:STANDARD
END:VTIMEZONE
BEGIN:VEVENT
DTSTART;TZID=America/New_York:20170916T090000
DTEND;TZID=America/New_York:20170916T120000
DTSTAMP:20260424T073247
CREATED:20170627T184114Z
LAST-MODIFIED:20170627T184114Z
UID:10000074-1505552400-1505563200@southbristolny.org
SUMMARY:Ontario County Rabies Prevention Clinic
DESCRIPTION:Hurley Builidng\, 205 Saltonstall Street\, Canandaigua\, NY 14424 \nClinics are FREE but donations are appreciated. Animals must be healthy and at least 3 months old. Please bring your animals past rabies certificate\, if any. Pets must be on a leash or in a carrier\, only one pet per carrier. \nBecause we have documented rabies in this county\, it is the law that every dog\, cat and ferret in Ontario County must be vaccinated against rabies at all times. \nOntario County Public Health (585) 396-4343
URL:https://southbristolny.org/event/ontario-county-rabies-prevention-clinic/
END:VEVENT
END:VCALENDAR