BEGIN:VCALENDAR
VERSION:2.0
PRODID:-//South Bristol, NY - ECPv6.15.20//NONSGML v1.0//EN
CALSCALE:GREGORIAN
METHOD:PUBLISH
X-WR-CALNAME:South Bristol, NY
X-ORIGINAL-URL:https://southbristolny.org
X-WR-CALDESC:Events for South Bristol, NY
REFRESH-INTERVAL;VALUE=DURATION:PT1H
X-Robots-Tag:noindex
X-PUBLISHED-TTL:PT1H
BEGIN:VTIMEZONE
TZID:America/New_York
BEGIN:DAYLIGHT
TZOFFSETFROM:-0500
TZOFFSETTO:-0400
TZNAME:EDT
DTSTART:20250309T070000
END:DAYLIGHT
BEGIN:STANDARD
TZOFFSETFROM:-0400
TZOFFSETTO:-0500
TZNAME:EST
DTSTART:20251102T060000
END:STANDARD
BEGIN:DAYLIGHT
TZOFFSETFROM:-0500
TZOFFSETTO:-0400
TZNAME:EDT
DTSTART:20260308T070000
END:DAYLIGHT
BEGIN:STANDARD
TZOFFSETFROM:-0400
TZOFFSETTO:-0500
TZNAME:EST
DTSTART:20261101T060000
END:STANDARD
BEGIN:DAYLIGHT
TZOFFSETFROM:-0500
TZOFFSETTO:-0400
TZNAME:EDT
DTSTART:20270314T070000
END:DAYLIGHT
BEGIN:STANDARD
TZOFFSETFROM:-0400
TZOFFSETTO:-0500
TZNAME:EST
DTSTART:20271107T060000
END:STANDARD
END:VTIMEZONE
BEGIN:VEVENT
DTSTART;TZID=America/New_York:20261109T180000
DTEND;TZID=America/New_York:20261109T210000
DTSTAMP:20260425T114034
CREATED:20251119T210324Z
LAST-MODIFIED:20260204T153550Z
UID:10001051-1794247200-1794258000@southbristolny.org
SUMMARY:South Bristol Town Board Meeting
DESCRIPTION:Zoom Meeting Link
URL:https://southbristolny.org/event/south-bristol-town-board-meeting-85/2026-11-09/
END:VEVENT
BEGIN:VEVENT
DTSTART;TZID=America/New_York:20261118T183000
DTEND;TZID=America/New_York:20261118T183000
DTSTAMP:20260425T114034
CREATED:20251209T202241Z
LAST-MODIFIED:20251209T202241Z
UID:10001034-1795026600-1795026600@southbristolny.org
SUMMARY:Planning Board Meeting
DESCRIPTION:
URL:https://southbristolny.org/event/planning-board-meeting-114/
END:VEVENT
BEGIN:VEVENT
DTSTART;TZID=America/New_York:20261124T170000
DTEND;TZID=America/New_York:20261124T190000
DTSTAMP:20260425T114034
CREATED:20260224T153014Z
LAST-MODIFIED:20260224T153211Z
UID:10001118-1795539600-1795546800@southbristolny.org
SUMMARY:South Bristol Community Engagement Committee
DESCRIPTION:South Bristol Community Engagement Committee Agenda \nZoom Meeting Link \nCommunity Engagement Committee: \nAfter an extended period of stable governance\, South Bristol now has a new supervisor and two new board members. Throughout 2025\, residents made clear their desire for more  opportunities to help shape the future of their town\, whomever the new board members might be.  This committee will leverage the heightened interest in civic discourse in the following ways:  \n\nConducting a review of the Town Comprehensive Plan and determine whether / when to  implement an update and recommend line items for implementation by the town • Finding ways to solicit ideas / input from the broader community through suggestion  boxes\, surveys\, and other mechanisms\nExploring / implementing opportunities for town education & discussion in areas of  topical interest such as: digital equity and broadband access\, economic assistance for the aging\, and more \nMaking recommendations for South Bristol participation in the 250th celebration of our  country’s founding. \n\nAppointments:  \nJamie Hall\, Board Liaison  \nCommittee members: Chris Bennem\, Deborah Denome\, Lenore Friend\, Tom Hawks\, John Holtz\,  others TBD 
URL:https://southbristolny.org/event/south-bristol-community-engagement-committee/2026-11-24/
END:VEVENT
BEGIN:VEVENT
DTSTART;TZID=America/New_York:20261125T080000
DTEND;TZID=America/New_York:20261125T170000
DTSTAMP:20260425T114034
CREATED:20251209T202407Z
LAST-MODIFIED:20251209T202407Z
UID:10001035-1795593600-1795626000@southbristolny.org
SUMMARY:No Zoning Board of Appeals Meeting (Combined NOV/DEC Meeting on 12/9
DESCRIPTION:
URL:https://southbristolny.org/event/no-zoning-board-of-appeals-meeting-combined-nov-dec-meeting-on-12-9/
END:VEVENT
END:VCALENDAR