BEGIN:VCALENDAR
VERSION:2.0
PRODID:-//South Bristol, NY - ECPv6.15.20//NONSGML v1.0//EN
CALSCALE:GREGORIAN
METHOD:PUBLISH
X-WR-CALNAME:South Bristol, NY
X-ORIGINAL-URL:https://southbristolny.org
X-WR-CALDESC:Events for South Bristol, NY
REFRESH-INTERVAL;VALUE=DURATION:PT1H
X-Robots-Tag:noindex
X-PUBLISHED-TTL:PT1H
BEGIN:VTIMEZONE
TZID:America/New_York
BEGIN:DAYLIGHT
TZOFFSETFROM:-0500
TZOFFSETTO:-0400
TZNAME:EDT
DTSTART:20250309T070000
END:DAYLIGHT
BEGIN:STANDARD
TZOFFSETFROM:-0400
TZOFFSETTO:-0500
TZNAME:EST
DTSTART:20251102T060000
END:STANDARD
BEGIN:DAYLIGHT
TZOFFSETFROM:-0500
TZOFFSETTO:-0400
TZNAME:EDT
DTSTART:20260308T070000
END:DAYLIGHT
BEGIN:STANDARD
TZOFFSETFROM:-0400
TZOFFSETTO:-0500
TZNAME:EST
DTSTART:20261101T060000
END:STANDARD
BEGIN:DAYLIGHT
TZOFFSETFROM:-0500
TZOFFSETTO:-0400
TZNAME:EDT
DTSTART:20270314T070000
END:DAYLIGHT
BEGIN:STANDARD
TZOFFSETFROM:-0400
TZOFFSETTO:-0500
TZNAME:EST
DTSTART:20271107T060000
END:STANDARD
END:VTIMEZONE
BEGIN:VEVENT
DTSTART;TZID=America/New_York:20260902T150000
DTEND;TZID=America/New_York:20260902T190000
DTSTAMP:20260425T083727
CREATED:20251119T204123Z
LAST-MODIFIED:20251119T204231Z
UID:10000949-1788361200-1788375600@southbristolny.org
SUMMARY:Transfer Station Open
DESCRIPTION:The South Bristol Transfer Station Summer Hours begin on Wednesday\, June 3rd\, 2026 and end on Wednesday\, September 30th\, 2026.
URL:https://southbristolny.org/event/transfer-station-open-4/2026-09-02/
END:VEVENT
BEGIN:VEVENT
DTSTART;TZID=America/New_York:20260909T150000
DTEND;TZID=America/New_York:20260909T190000
DTSTAMP:20260425T083727
CREATED:20251119T204123Z
LAST-MODIFIED:20251119T204231Z
UID:10000950-1788966000-1788980400@southbristolny.org
SUMMARY:Transfer Station Open
DESCRIPTION:The South Bristol Transfer Station Summer Hours begin on Wednesday\, June 3rd\, 2026 and end on Wednesday\, September 30th\, 2026.
URL:https://southbristolny.org/event/transfer-station-open-4/2026-09-09/
END:VEVENT
BEGIN:VEVENT
DTSTART;TZID=America/New_York:20260914T180000
DTEND;TZID=America/New_York:20260914T210000
DTSTAMP:20260425T083727
CREATED:20251119T210324Z
LAST-MODIFIED:20260204T153550Z
UID:10001050-1789408800-1789419600@southbristolny.org
SUMMARY:South Bristol Town Board Meeting
DESCRIPTION:Zoom Meeting Link
URL:https://southbristolny.org/event/south-bristol-town-board-meeting-85/2026-09-14/
END:VEVENT
BEGIN:VEVENT
DTSTART;TZID=America/New_York:20260916T150000
DTEND;TZID=America/New_York:20260916T190000
DTSTAMP:20260425T083727
CREATED:20251119T204123Z
LAST-MODIFIED:20251119T204231Z
UID:10000951-1789570800-1789585200@southbristolny.org
SUMMARY:Transfer Station Open
DESCRIPTION:The South Bristol Transfer Station Summer Hours begin on Wednesday\, June 3rd\, 2026 and end on Wednesday\, September 30th\, 2026.
URL:https://southbristolny.org/event/transfer-station-open-4/2026-09-16/
END:VEVENT
BEGIN:VEVENT
DTSTART;TZID=America/New_York:20260916T183000
DTEND;TZID=America/New_York:20260916T183000
DTSTAMP:20260425T083727
CREATED:20251209T202019Z
LAST-MODIFIED:20251209T202019Z
UID:10001030-1789583400-1789583400@southbristolny.org
SUMMARY:Planning Board Meeting
DESCRIPTION:
URL:https://southbristolny.org/event/planning-board-meeting-112/
END:VEVENT
BEGIN:VEVENT
DTSTART;TZID=America/New_York:20260917T160000
DTEND;TZID=America/New_York:20260917T170000
DTSTAMP:20260425T083727
CREATED:20251118T152459Z
LAST-MODIFIED:20251118T152459Z
UID:10000930-1789660800-1789664400@southbristolny.org
SUMMARY:Town Court DA Night
DESCRIPTION:
URL:https://southbristolny.org/event/town-court-da-night-13-2-2-2-2-2-2-2-2/
END:VEVENT
BEGIN:VEVENT
DTSTART;TZID=America/New_York:20260922T170000
DTEND;TZID=America/New_York:20260922T190000
DTSTAMP:20260425T083727
CREATED:20260224T153014Z
LAST-MODIFIED:20260224T153211Z
UID:10001116-1790096400-1790103600@southbristolny.org
SUMMARY:South Bristol Community Engagement Committee
DESCRIPTION:South Bristol Community Engagement Committee Agenda \nZoom Meeting Link \nCommunity Engagement Committee: \nAfter an extended period of stable governance\, South Bristol now has a new supervisor and two new board members. Throughout 2025\, residents made clear their desire for more  opportunities to help shape the future of their town\, whomever the new board members might be.  This committee will leverage the heightened interest in civic discourse in the following ways:  \n\nConducting a review of the Town Comprehensive Plan and determine whether / when to  implement an update and recommend line items for implementation by the town • Finding ways to solicit ideas / input from the broader community through suggestion  boxes\, surveys\, and other mechanisms\nExploring / implementing opportunities for town education & discussion in areas of  topical interest such as: digital equity and broadband access\, economic assistance for the aging\, and more \nMaking recommendations for South Bristol participation in the 250th celebration of our  country’s founding. \n\nAppointments:  \nJamie Hall\, Board Liaison  \nCommittee members: Chris Bennem\, Deborah Denome\, Lenore Friend\, Tom Hawks\, John Holtz\,  others TBD 
URL:https://southbristolny.org/event/south-bristol-community-engagement-committee/2026-09-22/
END:VEVENT
BEGIN:VEVENT
DTSTART;TZID=America/New_York:20260923T150000
DTEND;TZID=America/New_York:20260923T190000
DTSTAMP:20260425T083727
CREATED:20251119T204123Z
LAST-MODIFIED:20251119T204231Z
UID:10000952-1790175600-1790190000@southbristolny.org
SUMMARY:Transfer Station Open
DESCRIPTION:The South Bristol Transfer Station Summer Hours begin on Wednesday\, June 3rd\, 2026 and end on Wednesday\, September 30th\, 2026.
URL:https://southbristolny.org/event/transfer-station-open-4/2026-09-23/
END:VEVENT
BEGIN:VEVENT
DTSTART;TZID=America/New_York:20260923T190000
DTEND;TZID=America/New_York:20260923T190000
DTSTAMP:20260425T083727
CREATED:20251209T202049Z
LAST-MODIFIED:20251209T202049Z
UID:10001031-1790190000-1790190000@southbristolny.org
SUMMARY:Zoning Board of Appeals Meeting
DESCRIPTION:
URL:https://southbristolny.org/event/zoning-board-of-appeals-meeting-85/
END:VEVENT
BEGIN:VEVENT
DTSTART;TZID=America/New_York:20260930T150000
DTEND;TZID=America/New_York:20260930T190000
DTSTAMP:20260425T083727
CREATED:20251119T204123Z
LAST-MODIFIED:20251119T204231Z
UID:10000953-1790780400-1790794800@southbristolny.org
SUMMARY:Transfer Station Open
DESCRIPTION:The South Bristol Transfer Station Summer Hours begin on Wednesday\, June 3rd\, 2026 and end on Wednesday\, September 30th\, 2026.
URL:https://southbristolny.org/event/transfer-station-open-4/2026-09-30/
END:VEVENT
END:VCALENDAR