BEGIN:VCALENDAR
VERSION:2.0
PRODID:-//South Bristol, NY - ECPv6.15.20//NONSGML v1.0//EN
CALSCALE:GREGORIAN
METHOD:PUBLISH
X-ORIGINAL-URL:https://southbristolny.org
X-WR-CALDESC:Events for South Bristol, NY
REFRESH-INTERVAL;VALUE=DURATION:PT1H
X-Robots-Tag:noindex
X-PUBLISHED-TTL:PT1H
BEGIN:VTIMEZONE
TZID:America/New_York
BEGIN:DAYLIGHT
TZOFFSETFROM:-0500
TZOFFSETTO:-0400
TZNAME:EDT
DTSTART:20240310T070000
END:DAYLIGHT
BEGIN:STANDARD
TZOFFSETFROM:-0400
TZOFFSETTO:-0500
TZNAME:EST
DTSTART:20241103T060000
END:STANDARD
BEGIN:DAYLIGHT
TZOFFSETFROM:-0500
TZOFFSETTO:-0400
TZNAME:EDT
DTSTART:20250309T070000
END:DAYLIGHT
BEGIN:STANDARD
TZOFFSETFROM:-0400
TZOFFSETTO:-0500
TZNAME:EST
DTSTART:20251102T060000
END:STANDARD
BEGIN:DAYLIGHT
TZOFFSETFROM:-0500
TZOFFSETTO:-0400
TZNAME:EDT
DTSTART:20260308T070000
END:DAYLIGHT
BEGIN:STANDARD
TZOFFSETFROM:-0400
TZOFFSETTO:-0500
TZNAME:EST
DTSTART:20261101T060000
END:STANDARD
END:VTIMEZONE
BEGIN:VEVENT
DTSTART;TZID=America/New_York:20251101T090000
DTEND;TZID=America/New_York:20251101T110000
DTSTAMP:20260423T135311
CREATED:20251021T143405Z
LAST-MODIFIED:20251025T125521Z
UID:10000921-1761987600-1761994800@southbristolny.org
SUMMARY:2026 Budget Public Hearing
DESCRIPTION:ZOOM Link\nLEGAL NOTICE\nTOWN OF SOUTH BRISTOL RESIDENTS\nNOTICE OF PUBLIC HEARING \n2026 Preliminary Budget \nNOTICE is hereby given that the Preliminary Budget for the Town of South Bristol for the fiscal year beginning January 1\, 2026 has been completed and filed with the South Bristol Town Clerk at 6500 W Gannett Hill Rd\, Naples\, NY 14512 where it is available for inspection by any person during office hours. \nFURTHER NOTICE is hereby given that the South Bristol Town Board will hold a PUBLIC HEARING regarding the 2026 Preliminary Budget on SATURDAY NOVEMBER 1\, 2025 at 9:00am at the South Bristol Town Hall.  Any person may be heard at that time. \nFURTHER notice is given\, pursuant to Section 108 of Town Law\, that the following are the proposed yearly salaries for Town Officials: \n	Town Supervisor:	$22\,000.00\n	Town Council member: $3\,500.00 each (4)\n	Justice: $13\,750.00\n	Town Clerk/Tax Collector: $58\,250.00\n	Highway Superintendent: $90\,411.00 \nBY ORDER OF THE TOWN BOARD\n	Dated September 30\, 2025\n	Judy Voss\n	South Bristol Town Clerk
URL:https://southbristolny.org/event/2026-budget-public-hearing/
END:VEVENT
BEGIN:VEVENT
DTSTART;TZID=America/New_York:20251104T060000
DTEND;TZID=America/New_York:20251104T090000
DTSTAMP:20260423T135311
CREATED:20250930T151702Z
LAST-MODIFIED:20250930T151702Z
UID:10000918-1762236000-1762246800@southbristolny.org
SUMMARY:Election Day
DESCRIPTION:
URL:https://southbristolny.org/event/election-day-5/
END:VEVENT
BEGIN:VEVENT
DTSTART;TZID=America/New_York:20251110T190000
DTEND;TZID=America/New_York:20251110T210000
DTSTAMP:20260423T135311
CREATED:20241205T164848Z
LAST-MODIFIED:20251108T163622Z
UID:10000854-1762801200-1762808400@southbristolny.org
SUMMARY:South Bristol Town Board Meeting
DESCRIPTION:Zoom Meeting Link
URL:https://southbristolny.org/event/south-bristol-town-board-meeting-82/
END:VEVENT
BEGIN:VEVENT
DTSTART;TZID=America/New_York:20251111T080000
DTEND;TZID=America/New_York:20251111T163000
DTSTAMP:20260423T135311
CREATED:20251001T194020Z
LAST-MODIFIED:20251001T194020Z
UID:10000919-1762848000-1762878600@southbristolny.org
SUMMARY:Veterans Day - Town Hall Closed
DESCRIPTION:
URL:https://southbristolny.org/event/veterans-day-town-hall-closed-2/
END:VEVENT
BEGIN:VEVENT
DTSTART;TZID=America/New_York:20251119T183000
DTEND;TZID=America/New_York:20251119T183000
DTSTAMP:20260423T135311
CREATED:20241218T231059Z
LAST-MODIFIED:20241218T231059Z
UID:10000871-1763577000-1763577000@southbristolny.org
SUMMARY:Planning Board Meeting
DESCRIPTION:
URL:https://southbristolny.org/event/planning-board-meeting-103/
END:VEVENT
BEGIN:VEVENT
DTSTART;TZID=America/New_York:20251120T160000
DTEND;TZID=America/New_York:20251120T160000
DTSTAMP:20260423T135311
CREATED:20241219T180527Z
LAST-MODIFIED:20241219T180527Z
UID:10000894-1763654400-1763654400@southbristolny.org
SUMMARY:Town Court DA Night
DESCRIPTION:
URL:https://southbristolny.org/event/town-court-da-night-11/
END:VEVENT
BEGIN:VEVENT
DTSTART;TZID=America/New_York:20251126T190000
DTEND;TZID=America/New_York:20251126T190000
DTSTAMP:20260423T135311
CREATED:20241219T174258Z
LAST-MODIFIED:20241219T174409Z
UID:10000883-1764183600-1764183600@southbristolny.org
SUMMARY:Zoning Board of Appeals No Meeting (See Combined Nov/Dec Meeting December 10)
DESCRIPTION:
URL:https://southbristolny.org/event/zoning-board-of-appeals-no-meeting-see-combined-nov-dec-meeting-december-10/
END:VEVENT
BEGIN:VEVENT
DTSTART;TZID=America/New_York:20251129T080000
DTEND;TZID=America/New_York:20251129T170000
DTSTAMP:20260423T135311
CREATED:20251126T163904Z
LAST-MODIFIED:20251126T163915Z
UID:10001012-1764403200-1764435600@southbristolny.org
SUMMARY:TOWN HALL CLOSED - Holiday Weekend
DESCRIPTION:The South Bristol Town Hall will be CLOSED on Saturday\, November 29\, 2025 for the Holiday Weekend.  The South Bristol Town Hall will re-open for Regular Business hours on Monday\, December 1\, 2025 at 8:00am.
URL:https://southbristolny.org/event/town-hall-closed-holiday-weekend-3/
END:VEVENT
END:VCALENDAR