BEGIN:VCALENDAR
VERSION:2.0
PRODID:-//South Bristol, NY - ECPv6.15.20//NONSGML v1.0//EN
CALSCALE:GREGORIAN
METHOD:PUBLISH
X-WR-CALNAME:South Bristol, NY
X-ORIGINAL-URL:https://southbristolny.org
X-WR-CALDESC:Events for South Bristol, NY
REFRESH-INTERVAL;VALUE=DURATION:PT1H
X-Robots-Tag:noindex
X-PUBLISHED-TTL:PT1H
BEGIN:VTIMEZONE
TZID:America/New_York
BEGIN:DAYLIGHT
TZOFFSETFROM:-0500
TZOFFSETTO:-0400
TZNAME:EDT
DTSTART:20240310T070000
END:DAYLIGHT
BEGIN:STANDARD
TZOFFSETFROM:-0400
TZOFFSETTO:-0500
TZNAME:EST
DTSTART:20241103T060000
END:STANDARD
BEGIN:DAYLIGHT
TZOFFSETFROM:-0500
TZOFFSETTO:-0400
TZNAME:EDT
DTSTART:20250309T070000
END:DAYLIGHT
BEGIN:STANDARD
TZOFFSETFROM:-0400
TZOFFSETTO:-0500
TZNAME:EST
DTSTART:20251102T060000
END:STANDARD
BEGIN:DAYLIGHT
TZOFFSETFROM:-0500
TZOFFSETTO:-0400
TZNAME:EDT
DTSTART:20260308T070000
END:DAYLIGHT
BEGIN:STANDARD
TZOFFSETFROM:-0400
TZOFFSETTO:-0500
TZNAME:EST
DTSTART:20261101T060000
END:STANDARD
END:VTIMEZONE
BEGIN:VEVENT
DTSTART;TZID=America/New_York:20250705T080000
DTEND;TZID=America/New_York:20250705T170000
DTSTAMP:20260423T192450
CREATED:20250630T154059Z
LAST-MODIFIED:20250630T154059Z
UID:10000910-1751702400-1751734800@southbristolny.org
SUMMARY:South Bristol Town Hall - CLOSED
DESCRIPTION:The South Bristol Town Hall will be CLOSED on Saturday\, July 5\, 2025 for the Holiday Weekend.  The Town Hall will re-open on Monday July 7\, 2025 at 8:00am.
URL:https://southbristolny.org/event/south-bristol-town-hall-closed-12/
END:VEVENT
BEGIN:VEVENT
DTSTART;TZID=America/New_York:20250714T080000
DTEND;TZID=America/New_York:20250716T170000
DTSTAMP:20260423T192450
CREATED:20250630T172208Z
LAST-MODIFIED:20250630T172234Z
UID:10000911-1752480000-1752685200@southbristolny.org
SUMMARY:Assessor's Office - CLOSED
DESCRIPTION:The Assessor’s Office will be closed to attend yearly training and will re-open for regular hours on July 22nd.
URL:https://southbristolny.org/event/assessors-office-closed/
END:VEVENT
BEGIN:VEVENT
DTSTART;TZID=America/New_York:20250714T190000
DTEND;TZID=America/New_York:20250714T193000
DTSTAMP:20260423T192450
CREATED:20250709T125548Z
LAST-MODIFIED:20250709T125548Z
UID:10000912-1752519600-1752521400@southbristolny.org
SUMMARY:PUBLIC HEARING - Repeal Chapter 157 of the Town Code
DESCRIPTION:TOWN OF SOUTH BRISTOL\nNOTICE OF PUBLIC HEARING \n        PLEASE TAKE NOTICE\, that a public hearing will be held by the Town Board of the Town of South Bristol on the 14 day of July 2025\, at 7:00 p.m.\, at the South Bristol Town Hall\, 6500 Gannett Hill Road – West\, South Bristol\, New York\, regarding the adoption of a Local Law entitled “A Local Law Repealing Chapter 157 (Trailers) of the Code of the Town of South Bristol”.  This local law would repeal\, in its entirety\, Chapter 157 dealing with trailers. \n	Any person shall be entitled to be heard upon said proposed Local Law at such public hearing.  Copies of said proposed Local Law are available for review at the South Bristol Town Hall\, 6500 Gannett Hill Road – West\, Town of South Bristol\, New York. \n	This by Resolution of the Town Board of the Town of South Bristol. \n	Judy Voss\, Town Clerk
URL:https://southbristolny.org/event/public-hearing-repeal-chapter-157-of-the-town-code/
END:VEVENT
BEGIN:VEVENT
DTSTART;TZID=America/New_York:20250714T190000
DTEND;TZID=America/New_York:20250714T210000
DTSTAMP:20260423T192450
CREATED:20241205T164644Z
LAST-MODIFIED:20241205T164644Z
UID:10000850-1752519600-1752526800@southbristolny.org
SUMMARY:South Bristol Town Board Meeting
DESCRIPTION:
URL:https://southbristolny.org/event/south-bristol-town-board-meeting-78/
END:VEVENT
BEGIN:VEVENT
DTSTART;TZID=America/New_York:20250716T183000
DTEND;TZID=America/New_York:20250716T183000
DTSTAMP:20260423T192450
CREATED:20241218T230834Z
LAST-MODIFIED:20241218T230834Z
UID:10000867-1752690600-1752690600@southbristolny.org
SUMMARY:Planning Board Meeting
DESCRIPTION:
URL:https://southbristolny.org/event/planning-board-meeting-99/
END:VEVENT
BEGIN:VEVENT
DTSTART;TZID=America/New_York:20250717T160000
DTEND;TZID=America/New_York:20250717T160000
DTSTAMP:20260423T192450
CREATED:20241219T180236Z
LAST-MODIFIED:20241219T180236Z
UID:10000890-1752768000-1752768000@southbristolny.org
SUMMARY:Town Court DA Night
DESCRIPTION:
URL:https://southbristolny.org/event/town-court-da-night-7/
END:VEVENT
BEGIN:VEVENT
DTSTART;TZID=America/New_York:20250723T190000
DTEND;TZID=America/New_York:20250723T190000
DTSTAMP:20260423T192450
CREATED:20241219T173940Z
LAST-MODIFIED:20250714T163408Z
UID:10000879-1753297200-1753297200@southbristolny.org
SUMMARY:Zoning Board of Appeals Meeting is Cancelled
DESCRIPTION:
URL:https://southbristolny.org/event/zoning-board-of-appeals-meeting-73/
END:VEVENT
END:VCALENDAR