BEGIN:VCALENDAR
VERSION:2.0
PRODID:-//South Bristol, NY - ECPv6.15.20//NONSGML v1.0//EN
CALSCALE:GREGORIAN
METHOD:PUBLISH
X-ORIGINAL-URL:https://southbristolny.org
X-WR-CALDESC:Events for South Bristol, NY
REFRESH-INTERVAL;VALUE=DURATION:PT1H
X-Robots-Tag:noindex
X-PUBLISHED-TTL:PT1H
BEGIN:VTIMEZONE
TZID:America/New_York
BEGIN:DAYLIGHT
TZOFFSETFROM:-0500
TZOFFSETTO:-0400
TZNAME:EDT
DTSTART:20240310T070000
END:DAYLIGHT
BEGIN:STANDARD
TZOFFSETFROM:-0400
TZOFFSETTO:-0500
TZNAME:EST
DTSTART:20241103T060000
END:STANDARD
BEGIN:DAYLIGHT
TZOFFSETFROM:-0500
TZOFFSETTO:-0400
TZNAME:EDT
DTSTART:20250309T070000
END:DAYLIGHT
BEGIN:STANDARD
TZOFFSETFROM:-0400
TZOFFSETTO:-0500
TZNAME:EST
DTSTART:20251102T060000
END:STANDARD
BEGIN:DAYLIGHT
TZOFFSETFROM:-0500
TZOFFSETTO:-0400
TZNAME:EDT
DTSTART:20260308T070000
END:DAYLIGHT
BEGIN:STANDARD
TZOFFSETFROM:-0400
TZOFFSETTO:-0500
TZNAME:EST
DTSTART:20261101T060000
END:STANDARD
END:VTIMEZONE
BEGIN:VEVENT
DTSTART;TZID=America/New_York:20250310T190000
DTEND;TZID=America/New_York:20250310T210000
DTSTAMP:20260424T005009
CREATED:20241205T164410Z
LAST-MODIFIED:20241205T164410Z
UID:10000846-1741633200-1741640400@southbristolny.org
SUMMARY:South Bristol Town Board Meeting
DESCRIPTION:
URL:https://southbristolny.org/event/south-bristol-town-board-meeting-74/
END:VEVENT
BEGIN:VEVENT
DTSTART;TZID=America/New_York:20250319T183000
DTEND;TZID=America/New_York:20250319T183000
DTSTAMP:20260424T005009
CREATED:20241218T230623Z
LAST-MODIFIED:20241218T230634Z
UID:10000863-1742409000-1742409000@southbristolny.org
SUMMARY:Planning Board Meeting
DESCRIPTION:
URL:https://southbristolny.org/event/planning-board-meeting-95/
END:VEVENT
BEGIN:VEVENT
DTSTART;TZID=America/New_York:20250320T160000
DTEND;TZID=America/New_York:20250320T160000
DTSTAMP:20260424T005009
CREATED:20241219T175931Z
LAST-MODIFIED:20241219T175931Z
UID:10000886-1742486400-1742486400@southbristolny.org
SUMMARY:Town Court DA Night
DESCRIPTION:
URL:https://southbristolny.org/event/town-court-da-night-3/
END:VEVENT
BEGIN:VEVENT
DTSTART;TZID=America/New_York:20250326T190000
DTEND;TZID=America/New_York:20250326T190000
DTSTAMP:20260424T005009
CREATED:20241219T173727Z
LAST-MODIFIED:20241219T173727Z
UID:10000875-1743015600-1743015600@southbristolny.org
SUMMARY:Zoning Board of Appeals Meeting
DESCRIPTION:
URL:https://southbristolny.org/event/zoning-board-of-appeals-meeting-69/
END:VEVENT
BEGIN:VEVENT
DTSTART;TZID=America/New_York:20250331T080000
DTEND;TZID=America/New_York:20250331T170000
DTSTAMP:20260424T005009
CREATED:20250120T163436Z
LAST-MODIFIED:20250120T163436Z
UID:10000898-1743408000-1743440400@southbristolny.org
SUMMARY:LAST DAY FOR 2025 TOWN & COUNTY TAX COLLECTION
DESCRIPTION:PLEASE TAKE NOTICE as of March 31st\, all unpaid amounts will be turned over to the Ontario County Treasurer’s Office for collection. A 5% fee will be added to the unpaid balance\, plus monthly interest. You are urged to call the Treasurer’s Office after April 1st for the correct amount due at 585 396-4432.
URL:https://southbristolny.org/event/last-day-for-2025-town-county-tax-collection/
END:VEVENT
END:VCALENDAR