BEGIN:VCALENDAR
VERSION:2.0
PRODID:-//South Bristol, NY - ECPv6.15.20//NONSGML v1.0//EN
CALSCALE:GREGORIAN
METHOD:PUBLISH
X-WR-CALNAME:South Bristol, NY
X-ORIGINAL-URL:https://southbristolny.org
X-WR-CALDESC:Events for South Bristol, NY
REFRESH-INTERVAL;VALUE=DURATION:PT1H
X-Robots-Tag:noindex
X-PUBLISHED-TTL:PT1H
BEGIN:VTIMEZONE
TZID:America/New_York
BEGIN:DAYLIGHT
TZOFFSETFROM:-0500
TZOFFSETTO:-0400
TZNAME:EDT
DTSTART:20240310T070000
END:DAYLIGHT
BEGIN:STANDARD
TZOFFSETFROM:-0400
TZOFFSETTO:-0500
TZNAME:EST
DTSTART:20241103T060000
END:STANDARD
BEGIN:DAYLIGHT
TZOFFSETFROM:-0500
TZOFFSETTO:-0400
TZNAME:EDT
DTSTART:20250309T070000
END:DAYLIGHT
BEGIN:STANDARD
TZOFFSETFROM:-0400
TZOFFSETTO:-0500
TZNAME:EST
DTSTART:20251102T060000
END:STANDARD
BEGIN:DAYLIGHT
TZOFFSETFROM:-0500
TZOFFSETTO:-0400
TZNAME:EDT
DTSTART:20260308T070000
END:DAYLIGHT
BEGIN:STANDARD
TZOFFSETFROM:-0400
TZOFFSETTO:-0500
TZNAME:EST
DTSTART:20261101T060000
END:STANDARD
END:VTIMEZONE
BEGIN:VEVENT
DTSTART;TZID=America/New_York:20250210T190000
DTEND;TZID=America/New_York:20250210T210000
DTSTAMP:20260424T020503
CREATED:20241205T164330Z
LAST-MODIFIED:20250120T163101Z
UID:10000845-1739214000-1739221200@southbristolny.org
SUMMARY:South Bristol Town Board Meeting - RESCHEDULED FOR 2/17/25
DESCRIPTION:RESCHEDULED FOR MONDAY\, FEBRUARY 17\, 2025 AT 7PM.
URL:https://southbristolny.org/event/south-bristol-town-board-meeting-73/
END:VEVENT
BEGIN:VEVENT
DTSTART;TZID=America/New_York:20250217T190000
DTEND;TZID=America/New_York:20250217T190000
DTSTAMP:20260424T020503
CREATED:20250217T162924Z
LAST-MODIFIED:20250217T162932Z
UID:10000899-1739818800-1739818800@southbristolny.org
SUMMARY:PUBLIC HEARING - Local Law Overriding 2% Tax Cap
DESCRIPTION:PLEASE TAKE NOTICE\, that a public hearing will be held by the Town Board of the Town of South Bristol on the 17 day of February 2025\, at 7:00 p.m.\, at the South Bristol Town Hall\, 6500 Gannett Hill Road – West\, South Bristol\, New York\, regarding the adoption of a Local Law which would permit the Town Board to adopt a budget for the 2026 fiscal year that requires a real property tax levy in excess of the amount otherwise prescribed in General Municipal Law §3-c. \n	Any person shall be entitled to be heard upon said proposed Local Law at such public hearing.  Copies of said proposed Local Law are available for review at the South Bristol Town Hall\, 6500 Gannett Hill Road – West\, Town of South Bristol\, New York. \n	This by Resolution of the Town Board of the Town of South Bristol. \n	Judy Voss\, Town Clerk
URL:https://southbristolny.org/event/public-hearing-local-law-overriding-2-tax-cap/
END:VEVENT
BEGIN:VEVENT
DTSTART;TZID=America/New_York:20250217T190000
DTEND;TZID=America/New_York:20250217T210000
DTSTAMP:20260424T020503
CREATED:20250120T162314Z
LAST-MODIFIED:20250120T162314Z
UID:10000896-1739818800-1739826000@southbristolny.org
SUMMARY:South Bristol Town Board Meeting
DESCRIPTION:PLEASE TAKE NOTICE the South Bristol Town Board February meeting has been rescheduled for Monday\, February 17\, 2025 at 7:00pm. The meeting will be held at the South Bristol Town Hall\, 6500 W Gannett Road\, Naples\, NY 14512. All meetings are open to the public and are encouraged to attend. \nBy Order of the Town Supervisor. \nDated: January 20\, 2025
URL:https://southbristolny.org/event/south-bristol-town-board-meeting-84/
END:VEVENT
BEGIN:VEVENT
DTSTART;TZID=America/New_York:20250217T190000
DTEND;TZID=America/New_York:20250217T210000
DTSTAMP:20260424T020503
CREATED:20250120T162423Z
LAST-MODIFIED:20250120T162423Z
UID:10000897-1739818800-1739826000@southbristolny.org
SUMMARY:PUBLIC HEARING - Chapter 84 South Bristol Town Code
DESCRIPTION: TOWN OF SOUTH BRISTOL\nNOTICE OF PUBLIC HEARING\n            PLEASE TAKE NOTICE\, that a public hearing will be held by the Town Board of the Town of South Bristol on the 17th day of February\, 2025\, at 7:00 p.m.\, at the South Bristol Town Hall\, 6500 Gannett Hill Road – West\, South Bristol\, New York\, regarding the adoption of a Local Law which would repeal the existing Chapter 84 of the Code of the Town of South Bristol and adopt a new Chapter 84 providing for the administration and enforcement of the New York State Uniform Fire Prevention and Building Code and the State Energy Conservation Construction Code\, the new Chapter 84 to contain regulations pertaining to the following: \n\nPurpose and intent\nDefinitions\nCode enforcement officer and inspectors\nBuilding permits\nConstruction inspections\nStop work orders\nCertificates of occupancy and certificates of compliance\nNotification regarding fire or explosion\nUnsafe buildings\, structures\, and equipment and conditions of imminent danger\nOperating permits\nFire safety and property maintenance inspections\nComplaints\nCondition assessments of parking garages\nClimatic and geographic design criteria\nRecord keeping\nProgram review and reporting\nViolations\nFees\nIntermunicipal agreements\n\nAny person shall be entitled to be heard upon said proposed Local Law at such public hearing.  Copies of said proposed Local Law are available for review at the Town of South Bristol Town Hall\, 6500 Gannett Hill Road – West\, South Bristol\, New York. \nThis by Resolution of the Town Board of the Town of South Bristol. \nJudy Voss\, Town Clerk \nDated: 20 January 2025
URL:https://southbristolny.org/event/public-hearing-chapter-84-south-bristol-town-code/
END:VEVENT
BEGIN:VEVENT
DTSTART;TZID=America/New_York:20250219T183000
DTEND;TZID=America/New_York:20250219T183000
DTSTAMP:20260424T020503
CREATED:20241218T230548Z
LAST-MODIFIED:20250210T150611Z
UID:10000862-1739989800-1739989800@southbristolny.org
SUMMARY:Planning Board Meeting is Cancelled
DESCRIPTION:
URL:https://southbristolny.org/event/planning-board-meeting-94/
END:VEVENT
BEGIN:VEVENT
DTSTART;TZID=America/New_York:20250220T160000
DTEND;TZID=America/New_York:20250220T160000
DTSTAMP:20260424T020503
CREATED:20241219T175829Z
LAST-MODIFIED:20241219T175829Z
UID:10000885-1740067200-1740067200@southbristolny.org
SUMMARY:Town Court DA Night
DESCRIPTION:
URL:https://southbristolny.org/event/town-court-da-night-2/
END:VEVENT
BEGIN:VEVENT
DTSTART;TZID=America/New_York:20250226T190000
DTEND;TZID=America/New_York:20250226T190000
DTSTAMP:20260424T020503
CREATED:20241219T173651Z
LAST-MODIFIED:20250210T150643Z
UID:10000874-1740596400-1740596400@southbristolny.org
SUMMARY:Zoning Board of Appeals Meeting is Cancelled
DESCRIPTION:
URL:https://southbristolny.org/event/zoning-board-of-appeals-meeting-68/
END:VEVENT
END:VCALENDAR