BEGIN:VCALENDAR
VERSION:2.0
PRODID:-//South Bristol, NY - ECPv6.15.20//NONSGML v1.0//EN
CALSCALE:GREGORIAN
METHOD:PUBLISH
X-ORIGINAL-URL:https://southbristolny.org
X-WR-CALDESC:Events for South Bristol, NY
REFRESH-INTERVAL;VALUE=DURATION:PT1H
X-Robots-Tag:noindex
X-PUBLISHED-TTL:PT1H
BEGIN:VTIMEZONE
TZID:America/New_York
BEGIN:DAYLIGHT
TZOFFSETFROM:-0500
TZOFFSETTO:-0400
TZNAME:EDT
DTSTART:20240310T070000
END:DAYLIGHT
BEGIN:STANDARD
TZOFFSETFROM:-0400
TZOFFSETTO:-0500
TZNAME:EST
DTSTART:20241103T060000
END:STANDARD
BEGIN:DAYLIGHT
TZOFFSETFROM:-0500
TZOFFSETTO:-0400
TZNAME:EDT
DTSTART:20250309T070000
END:DAYLIGHT
BEGIN:STANDARD
TZOFFSETFROM:-0400
TZOFFSETTO:-0500
TZNAME:EST
DTSTART:20251102T060000
END:STANDARD
BEGIN:DAYLIGHT
TZOFFSETFROM:-0500
TZOFFSETTO:-0400
TZNAME:EDT
DTSTART:20260308T070000
END:DAYLIGHT
BEGIN:STANDARD
TZOFFSETFROM:-0400
TZOFFSETTO:-0500
TZNAME:EST
DTSTART:20261101T060000
END:STANDARD
END:VTIMEZONE
BEGIN:VEVENT
DTSTART;TZID=America/New_York:20250102T090000
DTEND;TZID=America/New_York:20250102T163000
DTSTAMP:20260424T031606
CREATED:20241205T165610Z
LAST-MODIFIED:20241216T154225Z
UID:10000857-1735808400-1735835400@southbristolny.org
SUMMARY:Tax Collection Begins
DESCRIPTION:Legal Notice Tax Roll and Warrant 2025
URL:https://southbristolny.org/event/tax-collection-begins/
END:VEVENT
BEGIN:VEVENT
DTSTART;TZID=America/New_York:20250106T190000
DTEND;TZID=America/New_York:20250106T190000
DTSTAMP:20260424T031606
CREATED:20241205T164203Z
LAST-MODIFIED:20241205T164241Z
UID:10000844-1736190000-1736190000@southbristolny.org
SUMMARY:SOUTH BRISTOL TOWN BOARD - ORGANIZATIONAL MEETING & REGULAR MEETING
DESCRIPTION:PLEASE TAKE NOTICE:  The South Bristol Town Board will hold its 2025 Organizational Meeting and its Regular meeting on MONDAY\, JANUARY 6\, 2025 at 7:00pm.  The meeting will be held at the South Bristol Town Hall\, 6500 W Gannett Hill Rd\, Naples\, NY 14512.  All meetings are open to the public and are encouraged to attend. \nDated:\nJudy Voss\nSouth Bristol Town Clerk
URL:https://southbristolny.org/event/south-bristol-town-board-organizational-meeting-regular-meeting-2/
END:VEVENT
BEGIN:VEVENT
DTSTART;TZID=America/New_York:20250115T183000
DTEND;TZID=America/New_York:20250115T183000
DTSTAMP:20260424T031606
CREATED:20241218T230517Z
LAST-MODIFIED:20241218T230517Z
UID:10000861-1736965800-1736965800@southbristolny.org
SUMMARY:Planning Board Meeting
DESCRIPTION:
URL:https://southbristolny.org/event/planning-board-meeting-93/
END:VEVENT
BEGIN:VEVENT
DTSTART;TZID=America/New_York:20250116T160000
DTEND;TZID=America/New_York:20250116T160000
DTSTAMP:20260424T031606
CREATED:20241219T175727Z
LAST-MODIFIED:20241219T175727Z
UID:10000884-1737043200-1737043200@southbristolny.org
SUMMARY:Town Court DA Night
DESCRIPTION:
URL:https://southbristolny.org/event/town-court-da-night/
END:VEVENT
BEGIN:VEVENT
DTSTART;TZID=America/New_York:20250122T190000
DTEND;TZID=America/New_York:20250122T190000
DTSTAMP:20260424T031607
CREATED:20241219T173611Z
LAST-MODIFIED:20250127T180048Z
UID:10000873-1737572400-1737572400@southbristolny.org
SUMMARY:Zoning Board of Appeals Meeting - Cancelled
DESCRIPTION:
URL:https://southbristolny.org/event/zoning-board-of-appeals-meeting-67/
END:VEVENT
END:VCALENDAR