BEGIN:VCALENDAR
VERSION:2.0
PRODID:-//South Bristol, NY - ECPv6.15.20//NONSGML v1.0//EN
CALSCALE:GREGORIAN
METHOD:PUBLISH
X-ORIGINAL-URL:https://southbristolny.org
X-WR-CALDESC:Events for South Bristol, NY
REFRESH-INTERVAL;VALUE=DURATION:PT1H
X-Robots-Tag:noindex
X-PUBLISHED-TTL:PT1H
BEGIN:VTIMEZONE
TZID:America/New_York
BEGIN:DAYLIGHT
TZOFFSETFROM:-0500
TZOFFSETTO:-0400
TZNAME:EDT
DTSTART:20230312T070000
END:DAYLIGHT
BEGIN:STANDARD
TZOFFSETFROM:-0400
TZOFFSETTO:-0500
TZNAME:EST
DTSTART:20231105T060000
END:STANDARD
BEGIN:DAYLIGHT
TZOFFSETFROM:-0500
TZOFFSETTO:-0400
TZNAME:EDT
DTSTART:20240310T070000
END:DAYLIGHT
BEGIN:STANDARD
TZOFFSETFROM:-0400
TZOFFSETTO:-0500
TZNAME:EST
DTSTART:20241103T060000
END:STANDARD
BEGIN:DAYLIGHT
TZOFFSETFROM:-0500
TZOFFSETTO:-0400
TZNAME:EDT
DTSTART:20250309T070000
END:DAYLIGHT
BEGIN:STANDARD
TZOFFSETFROM:-0400
TZOFFSETTO:-0500
TZNAME:EST
DTSTART:20251102T060000
END:STANDARD
END:VTIMEZONE
BEGIN:VEVENT
DTSTART;TZID=America/New_York:20241209T183000
DTEND;TZID=America/New_York:20241209T190000
DTSTAMP:20260424T042128
CREATED:20241202T201647Z
LAST-MODIFIED:20241202T201647Z
UID:10000843-1733769000-1733770800@southbristolny.org
SUMMARY:South Bristol Town Board - Executive Session
DESCRIPTION:The South Bristol Town Board meeting scheduled for Monday\, December 9\, 2024 will begin at 6:30pm so the Town Board can convene into Executive Session to discuss potential litigation with the Town Attorney.  Executive Session is a privilege of the Board to meet without the Public in attendance and privately discuss Town matters.  There are only a few exceptions where the Town Board is allowed to meet in Executive Session. Any questions can be directed to the South Bristol Town Clerk.\nDated: December 2\, 2024
URL:https://southbristolny.org/event/south-bristol-town-board-executive-session-2/
END:VEVENT
BEGIN:VEVENT
DTSTART;TZID=America/New_York:20241209T190000
DTEND;TZID=America/New_York:20241209T193000
DTSTAMP:20260424T042128
CREATED:20241127T153508Z
LAST-MODIFIED:20241127T153613Z
UID:10000842-1733770800-1733772600@southbristolny.org
SUMMARY:PUBLIC HEARING - Local Law Revising Chapter 84
DESCRIPTION:PUBLIC NOTICE – Chapter 84
URL:https://southbristolny.org/event/public-hearing-local-law-revising-chapter-84/
END:VEVENT
BEGIN:VEVENT
DTSTART;TZID=America/New_York:20241209T190000
DTEND;TZID=America/New_York:20241209T210000
DTSTAMP:20260424T042128
CREATED:20240318T201007Z
LAST-MODIFIED:20240318T201407Z
UID:10000801-1733770800-1733778000@southbristolny.org
SUMMARY:South Bristol Town Board Meeting
DESCRIPTION:
URL:https://southbristolny.org/event/south-bristol-town-board-meeting-71/
END:VEVENT
BEGIN:VEVENT
DTSTART;TZID=America/New_York:20241211T190000
DTEND;TZID=America/New_York:20241211T190000
DTSTAMP:20260424T042128
CREATED:20231206T140301Z
LAST-MODIFIED:20241205T184159Z
UID:10000785-1733943600-1733943600@southbristolny.org
SUMMARY:Zoning Board of Appeals Combined November/December Meeting is Cancelled
DESCRIPTION:
URL:https://southbristolny.org/event/zoning-board-of-appeals-meeting-tbd/
END:VEVENT
BEGIN:VEVENT
DTSTART;TZID=America/New_York:20241218T183000
DTEND;TZID=America/New_York:20241218T183000
DTSTAMP:20260424T042128
CREATED:20231206T135516Z
LAST-MODIFIED:20231206T135516Z
UID:10000774-1734546600-1734546600@southbristolny.org
SUMMARY:Planning Board Meeting
DESCRIPTION:
URL:https://southbristolny.org/event/planning-board-meeting-90/
END:VEVENT
BEGIN:VEVENT
DTSTART;TZID=America/New_York:20241219T160000
DTEND;TZID=America/New_York:20241219T160000
DTSTAMP:20260424T042128
CREATED:20231206T141908Z
LAST-MODIFIED:20231206T141908Z
UID:10000787-1734624000-1734624000@southbristolny.org
SUMMARY:Town Court - District Attorney
DESCRIPTION:
URL:https://southbristolny.org/event/town-court-district-attorney-12/
END:VEVENT
BEGIN:VEVENT
DTSTART;TZID=America/New_York:20241228T090000
DTEND;TZID=America/New_York:20241228T100000
DTSTAMP:20260424T042128
CREATED:20241216T154008Z
LAST-MODIFIED:20241216T154008Z
UID:10000858-1735376400-1735380000@southbristolny.org
SUMMARY:2024 Year-End Town Board Meeting
DESCRIPTION:PLEASE TAKE NOTICE the South Bristol Town Board has scheduled the 2024 Year-End Board meeting for Saturday\, December 28\, 2024 at 9:00am.  The 2024 Year-End will be held at the South Bristol Town Hall\, 6500 W Gannett Hill Rd\, Naples\, NY 14512.  All meetings are open to the public and are encouraged to attend.\nBy Order of the South Bristol Town Board.\nDated: December 16\, 2024\nJudy Voss
URL:https://southbristolny.org/event/2024-year-end-town-board-meeting/
END:VEVENT
END:VCALENDAR