BEGIN:VCALENDAR
VERSION:2.0
PRODID:-//South Bristol, NY - ECPv6.15.20//NONSGML v1.0//EN
CALSCALE:GREGORIAN
METHOD:PUBLISH
X-WR-CALNAME:South Bristol, NY
X-ORIGINAL-URL:https://southbristolny.org
X-WR-CALDESC:Events for South Bristol, NY
REFRESH-INTERVAL;VALUE=DURATION:PT1H
X-Robots-Tag:noindex
X-PUBLISHED-TTL:PT1H
BEGIN:VTIMEZONE
TZID:America/New_York
BEGIN:DAYLIGHT
TZOFFSETFROM:-0500
TZOFFSETTO:-0400
TZNAME:EDT
DTSTART:20230312T070000
END:DAYLIGHT
BEGIN:STANDARD
TZOFFSETFROM:-0400
TZOFFSETTO:-0500
TZNAME:EST
DTSTART:20231105T060000
END:STANDARD
BEGIN:DAYLIGHT
TZOFFSETFROM:-0500
TZOFFSETTO:-0400
TZNAME:EDT
DTSTART:20240310T070000
END:DAYLIGHT
BEGIN:STANDARD
TZOFFSETFROM:-0400
TZOFFSETTO:-0500
TZNAME:EST
DTSTART:20241103T060000
END:STANDARD
BEGIN:DAYLIGHT
TZOFFSETFROM:-0500
TZOFFSETTO:-0400
TZNAME:EDT
DTSTART:20250309T070000
END:DAYLIGHT
BEGIN:STANDARD
TZOFFSETFROM:-0400
TZOFFSETTO:-0500
TZNAME:EST
DTSTART:20251102T060000
END:STANDARD
END:VTIMEZONE
BEGIN:VEVENT
DTSTART;TZID=America/New_York:20240807T150000
DTEND;TZID=America/New_York:20240807T190000
DTSTAMP:20260424T094556
CREATED:20240717T151128Z
LAST-MODIFIED:20240717T151128Z
UID:10000820-1723042800-1723057200@southbristolny.org
SUMMARY:Transfer Station OPEN
DESCRIPTION:Transfer Station is Open for Summer hours.\nWednesday 3pm to 7pm
URL:https://southbristolny.org/event/transfer-station-open-2-2-2/
END:VEVENT
BEGIN:VEVENT
DTSTART;TZID=America/New_York:20240812T190000
DTEND;TZID=America/New_York:20240812T210000
DTSTAMP:20260424T094556
CREATED:20240318T200731Z
LAST-MODIFIED:20240318T200731Z
UID:10000798-1723489200-1723496400@southbristolny.org
SUMMARY:South Bristol Town Board Meeting
DESCRIPTION:
URL:https://southbristolny.org/event/south-bristol-town-board-meeting-67/
END:VEVENT
BEGIN:VEVENT
DTSTART;TZID=America/New_York:20240812T190000
DTEND;TZID=America/New_York:20240812T210000
DTSTAMP:20260424T094556
CREATED:20240809T181226Z
LAST-MODIFIED:20240809T181226Z
UID:10000831-1723489200-1723496400@southbristolny.org
SUMMARY:South Bristol Town Board Meeting
DESCRIPTION:August 2024 Agenda
URL:https://southbristolny.org/event/south-bristol-town-board-meeting-72/
END:VEVENT
BEGIN:VEVENT
DTSTART;TZID=America/New_York:20240814T150000
DTEND;TZID=America/New_York:20240814T190000
DTSTAMP:20260424T094556
CREATED:20240717T151225Z
LAST-MODIFIED:20240717T151225Z
UID:10000821-1723647600-1723662000@southbristolny.org
SUMMARY:Transfer Station OPEN
DESCRIPTION:Transfer Station is Open for Summer hours.\nWednesday 3pm to 7pm
URL:https://southbristolny.org/event/transfer-station-open-2-2-2-2/
END:VEVENT
BEGIN:VEVENT
DTSTART;TZID=America/New_York:20240815T160000
DTEND;TZID=America/New_York:20240815T160000
DTSTAMP:20260424T094556
CREATED:20231206T141537Z
LAST-MODIFIED:20231206T141537Z
UID:10000481-1723737600-1723737600@southbristolny.org
SUMMARY:Town Court - District Attorney
DESCRIPTION:
URL:https://southbristolny.org/event/town-court-district-attorney-8/
END:VEVENT
BEGIN:VEVENT
DTSTART;TZID=America/New_York:20240821T150000
DTEND;TZID=America/New_York:20240821T190000
DTSTAMP:20260424T094556
CREATED:20240717T151240Z
LAST-MODIFIED:20240717T151240Z
UID:10000822-1724252400-1724266800@southbristolny.org
SUMMARY:Transfer Station OPEN
DESCRIPTION:Transfer Station is Open for Summer hours.\nWednesday 3pm to 7pm
URL:https://southbristolny.org/event/transfer-station-open-2-2-2-2-2/
END:VEVENT
BEGIN:VEVENT
DTSTART;TZID=America/New_York:20240821T183000
DTEND;TZID=America/New_York:20240821T183000
DTSTAMP:20260424T094556
CREATED:20231206T135329Z
LAST-MODIFIED:20231206T135329Z
UID:10000770-1724265000-1724265000@southbristolny.org
SUMMARY:Planning Board Meeting
DESCRIPTION:
URL:https://southbristolny.org/event/planning-board-meeting-86/
END:VEVENT
BEGIN:VEVENT
DTSTART;TZID=America/New_York:20240824T080000
DTEND;TZID=America/New_York:20240824T110000
DTSTAMP:20260424T094556
CREATED:20240717T150443Z
LAST-MODIFIED:20240717T150443Z
UID:10000814-1724486400-1724497200@southbristolny.org
SUMMARY:Ontario County Special Collection Event - Mattresses
DESCRIPTION:Mattress Collection Link \nTown of South Bristol Highway Dept\n6371 State Route 64\nNaples\, NY 14512
URL:https://southbristolny.org/event/ontario-county-special-collection-event-mattresses/
END:VEVENT
BEGIN:VEVENT
DTSTART;TZID=America/New_York:20240824T080000
DTEND;TZID=America/New_York:20240824T110000
DTSTAMP:20260424T094556
CREATED:20240806T140824Z
LAST-MODIFIED:20240806T140957Z
UID:10000830-1724486400-1724497200@southbristolny.org
SUMMARY:Mattress Recycling Event
DESCRIPTION:Event Flyer & Info \nOnline Registration\, see flyer for more information.
URL:https://southbristolny.org/event/mattress-recycling-event/
LOCATION:Highway Barns
END:VEVENT
BEGIN:VEVENT
DTSTART;TZID=America/New_York:20240828T150000
DTEND;TZID=America/New_York:20240828T190000
DTSTAMP:20260424T094556
CREATED:20240717T151256Z
LAST-MODIFIED:20240717T151256Z
UID:10000823-1724857200-1724871600@southbristolny.org
SUMMARY:Transfer Station OPEN
DESCRIPTION:Transfer Station is Open for Summer hours.\nWednesday 3pm to 7pm
URL:https://southbristolny.org/event/transfer-station-open-2-2-2-2-2-2/
END:VEVENT
BEGIN:VEVENT
DTSTART;TZID=America/New_York:20240828T190000
DTEND;TZID=America/New_York:20240828T190000
DTSTAMP:20260424T094556
CREATED:20231206T140013Z
LAST-MODIFIED:20240730T191311Z
UID:10000783-1724871600-1724871600@southbristolny.org
SUMMARY:Zoning Board of Appeals Meeting is Cancelled
DESCRIPTION:
URL:https://southbristolny.org/event/zoning-board-of-appeals-meeting-64/
END:VEVENT
BEGIN:VEVENT
DTSTART;TZID=America/New_York:20240831T080000
DTEND;TZID=America/New_York:20240831T170000
DTSTAMP:20260424T094556
CREATED:20240723T140944Z
LAST-MODIFIED:20240723T142029Z
UID:10000829-1725091200-1725123600@southbristolny.org
SUMMARY:CLOSED - Holiday Weekend
DESCRIPTION:The South Bristol Town Hall will be CLOSED Saturday August 31\, 2024 for the Holiday Weekend. The Town Hall will reopen on Tuesday September 3\, 2024.  The Transfer Station will be OPEN on Saturday August 31st from 9am – 4pm and OPEN Sunday September 1st\, 9am – 2pm.  The summer hours of the Transfer Station END Wednesday September 25th.
URL:https://southbristolny.org/event/closed-holiday-weekend-8/
END:VEVENT
END:VCALENDAR