BEGIN:VCALENDAR
VERSION:2.0
PRODID:-//South Bristol, NY - ECPv6.15.20//NONSGML v1.0//EN
CALSCALE:GREGORIAN
METHOD:PUBLISH
X-WR-CALNAME:South Bristol, NY
X-ORIGINAL-URL:https://southbristolny.org
X-WR-CALDESC:Events for South Bristol, NY
REFRESH-INTERVAL;VALUE=DURATION:PT1H
X-Robots-Tag:noindex
X-PUBLISHED-TTL:PT1H
BEGIN:VTIMEZONE
TZID:America/New_York
BEGIN:DAYLIGHT
TZOFFSETFROM:-0500
TZOFFSETTO:-0400
TZNAME:EDT
DTSTART:20230312T070000
END:DAYLIGHT
BEGIN:STANDARD
TZOFFSETFROM:-0400
TZOFFSETTO:-0500
TZNAME:EST
DTSTART:20231105T060000
END:STANDARD
BEGIN:DAYLIGHT
TZOFFSETFROM:-0500
TZOFFSETTO:-0400
TZNAME:EDT
DTSTART:20240310T070000
END:DAYLIGHT
BEGIN:STANDARD
TZOFFSETFROM:-0400
TZOFFSETTO:-0500
TZNAME:EST
DTSTART:20241103T060000
END:STANDARD
BEGIN:DAYLIGHT
TZOFFSETFROM:-0500
TZOFFSETTO:-0400
TZNAME:EDT
DTSTART:20250309T070000
END:DAYLIGHT
BEGIN:STANDARD
TZOFFSETFROM:-0400
TZOFFSETTO:-0500
TZNAME:EST
DTSTART:20251102T060000
END:STANDARD
END:VTIMEZONE
BEGIN:VEVENT
DTSTART;TZID=America/New_York:20240212T190000
DTEND;TZID=America/New_York:20240212T190000
DTSTAMP:20260424T175435
CREATED:20240205T155401Z
LAST-MODIFIED:20240205T160419Z
UID:10000792-1707764400-1707764400@southbristolny.org
SUMMARY:South Bristol Town Board - Public Hearing
DESCRIPTION:TOWN OF SOUTH BRISTOL\n	NOTICE OF PUBLIC HEARING \n	PLEASE TAKE NOTICE\, that a public hearing will be held by the Town Board of the Town of South Bristol on the 12th day of February\, 2024\, at 7:00 p.m.\, at the South Bristol Town Hall\, 6500 Gannett Hill Road – West\, South Bristol\, New York\, regarding the adoption of a Local Law which would permit the Town Board to adopt a budget for the 2025 fiscal year that requires a real property tax levy in excess of the amount otherwise prescribed in General Municipal Law §3-c. \n	Any person shall be entitled to be heard upon said proposed Local Law at such public hearing.  Copies of said proposed Local Law are available for review at the South Bristol Town Hall\, 6500 Gannett Hill Road – West\, Town of South Bristol\, New York. \n	This by Resolution of the Town Board of the Town of South Bristol. \n	Judy Voss\, Town Clerk
URL:https://southbristolny.org/event/south-bristol-town-board-public-hearing-11/
END:VEVENT
BEGIN:VEVENT
DTSTART;TZID=America/New_York:20240215T160000
DTEND;TZID=America/New_York:20240215T160000
DTSTAMP:20260424T175435
CREATED:20231206T141224Z
LAST-MODIFIED:20231206T141224Z
UID:10000475-1708012800-1708012800@southbristolny.org
SUMMARY:Town Court - District Attorney
DESCRIPTION:
URL:https://southbristolny.org/event/town-court-district-attorney-2/
END:VEVENT
BEGIN:VEVENT
DTSTART;TZID=America/New_York:20240221T183000
DTEND;TZID=America/New_York:20240221T183000
DTSTAMP:20260424T175435
CREATED:20231205T211346Z
LAST-MODIFIED:20231205T211622Z
UID:10000473-1708540200-1708540200@southbristolny.org
SUMMARY:Planning Board Meeting
DESCRIPTION:
URL:https://southbristolny.org/event/planning-board-meeting-81/
END:VEVENT
BEGIN:VEVENT
DTSTART;TZID=America/New_York:20240228T190000
DTEND;TZID=America/New_York:20240228T190000
DTSTAMP:20260424T175435
CREATED:20231206T135618Z
LAST-MODIFIED:20240220T144614Z
UID:10000777-1709146800-1709146800@southbristolny.org
SUMMARY:Zoning Board of Appeals Meeting Cancelled
DESCRIPTION:
URL:https://southbristolny.org/event/zoning-board-of-appeals-meeting-57/
END:VEVENT
END:VCALENDAR